﻿BEGIN:VCALENDAR
VERSION:2.0
PRODID:-//Comunidade Cristã de Londrina - ECPv5.2.1//NONSGML v1.0//EN
CALSCALE:GREGORIAN
METHOD:PUBLISH
X-WR-CALNAME:Comunidade Cristã de Londrina
X-ORIGINAL-URL:https://comunidadecristadelondrina.org
X-WR-CALDESC:Events for Comunidade Cristã de Londrina
BEGIN:VTIMEZONE
TZID:America/Sao_Paulo
BEGIN:STANDARD
TZOFFSETFROM:-0300
TZOFFSETTO:-0300
TZNAME:-03
DTSTART:20200101T000000
END:STANDARD
END:VTIMEZONE
BEGIN:VEVENT
DTSTART;TZID=America/Sao_Paulo:20200302T200000
DTEND;TZID=America/Sao_Paulo:20200302T220000
DTSTAMP:20260425T093900
CREATED:20200210T123515Z
LAST-MODIFIED:20200210T123515Z
UID:3588-1583179200-1583186400@comunidadecristadelondrina.org
SUMMARY:Casamento Saudável (1a Turma)
DESCRIPTION:
URL:https://comunidadecristadelondrina.org/evento/casamento-saudavel-1a-turma/
ATTACH;FMTTYPE=image/jpeg:https://comunidadecristadelondrina.org/wp-content/uploads/2020/02/marco_casamento.jpeg
END:VEVENT
END:VCALENDAR