﻿BEGIN:VCALENDAR
VERSION:2.0
PRODID:-//Comunidade Cristã de Londrina - ECPv5.2.1//NONSGML v1.0//EN
CALSCALE:GREGORIAN
METHOD:PUBLISH
X-WR-CALNAME:Comunidade Cristã de Londrina
X-ORIGINAL-URL:https://comunidadecristadelondrina.org
X-WR-CALDESC:Events for Comunidade Cristã de Londrina
BEGIN:VTIMEZONE
TZID:America/Sao_Paulo
BEGIN:STANDARD
TZOFFSETFROM:-0300
TZOFFSETTO:-0300
TZNAME:-03
DTSTART:20200101T000000
END:STANDARD
END:VTIMEZONE
BEGIN:VEVENT
DTSTART;TZID=America/Sao_Paulo:20200411T160000
DTEND;TZID=America/Sao_Paulo:20200411T180000
DTSTAMP:20260425T075901
CREATED:20200210T023720Z
LAST-MODIFIED:20200210T023720Z
UID:3538-1586620800-1586628000@comunidadecristadelondrina.org
SUMMARY:Encontro Mulheres
DESCRIPTION:
URL:https://comunidadecristadelondrina.org/evento/encontro-mulheres-3/
LOCATION:Comunidade Cristã de Londrina\, Av. Waldemar Spranger\, 1.255\, Londrina (PR)\, Paraná\, 86047-285\, Brasil
CATEGORIES:Reuniões
ATTACH;FMTTYPE=image/jpeg:https://comunidadecristadelondrina.org/wp-content/uploads/2020/02/marco_encontro_mulheres.jpeg
END:VEVENT
END:VCALENDAR