﻿BEGIN:VCALENDAR
VERSION:2.0
PRODID:-//Comunidade Cristã de Londrina - ECPv5.2.1//NONSGML v1.0//EN
CALSCALE:GREGORIAN
METHOD:PUBLISH
X-WR-CALNAME:Comunidade Cristã de Londrina
X-ORIGINAL-URL:https://comunidadecristadelondrina.org
X-WR-CALDESC:Events for Comunidade Cristã de Londrina
BEGIN:VTIMEZONE
TZID:America/Sao_Paulo
BEGIN:STANDARD
TZOFFSETFROM:-0300
TZOFFSETTO:-0300
TZNAME:-03
DTSTART:20200101T000000
END:STANDARD
END:VTIMEZONE
BEGIN:VEVENT
DTSTART;VALUE=DATE:20200523
DTEND;VALUE=DATE:20200524
DTSTAMP:20260425T080023
CREATED:20200211T121244Z
LAST-MODIFIED:20200211T121244Z
UID:3607-1590192000-1590278399@comunidadecristadelondrina.org
SUMMARY:Evento Famílias CCL
DESCRIPTION:
URL:https://comunidadecristadelondrina.org/evento/evento-familias-ccl/
LOCATION:Comunidade Cristã de Londrina\, Av. Waldemar Spranger\, 1.255\, Londrina (PR)\, Paraná\, 86047-285\, Brasil
CATEGORIES:Encontros
ATTACH;FMTTYPE=image/jpeg:https://comunidadecristadelondrina.org/wp-content/uploads/2020/02/agenda_logo.jpg
END:VEVENT
END:VCALENDAR