﻿BEGIN:VCALENDAR
VERSION:2.0
PRODID:-//Comunidade Cristã de Londrina - ECPv5.2.1//NONSGML v1.0//EN
CALSCALE:GREGORIAN
METHOD:PUBLISH
X-WR-CALNAME:Comunidade Cristã de Londrina
X-ORIGINAL-URL:https://comunidadecristadelondrina.org
X-WR-CALDESC:Events for Comunidade Cristã de Londrina
BEGIN:VTIMEZONE
TZID:America/Sao_Paulo
BEGIN:STANDARD
TZOFFSETFROM:-0300
TZOFFSETTO:-0300
TZNAME:-03
DTSTART:20200101T000000
END:STANDARD
END:VTIMEZONE
BEGIN:VEVENT
DTSTART;TZID=America/Sao_Paulo:20200417T190000
DTEND;TZID=America/Sao_Paulo:20200418T220000
DTSTAMP:20260425T075932
CREATED:20200210T124128Z
LAST-MODIFIED:20200210T124209Z
UID:3594-1587150000-1587247200@comunidadecristadelondrina.org
SUMMARY:Evento sobre "Design Inteligente" Marcos Eberlin
DESCRIPTION:
URL:https://comunidadecristadelondrina.org/evento/evento-sobre-design-inteligente-marcos-eberlin/
LOCATION:Primeira Igreja Batista em Londrina\, Avenida Paraná\, 76A - Centro\, Londrina\, Paraná\, 86020-360\, Brasil
CATEGORIES:Encontros
ATTACH;FMTTYPE=image/jpeg:https://comunidadecristadelondrina.org/wp-content/uploads/2020/02/marco_design.jpeg
END:VEVENT
END:VCALENDAR