﻿BEGIN:VCALENDAR
VERSION:2.0
PRODID:-//Comunidade Cristã de Londrina - ECPv5.2.1//NONSGML v1.0//EN
CALSCALE:GREGORIAN
METHOD:PUBLISH
X-WR-CALNAME:Comunidade Cristã de Londrina
X-ORIGINAL-URL:https://comunidadecristadelondrina.org
X-WR-CALDESC:Events for Comunidade Cristã de Londrina
BEGIN:VTIMEZONE
TZID:America/Sao_Paulo
BEGIN:STANDARD
TZOFFSETFROM:-0300
TZOFFSETTO:-0300
TZNAME:-03
DTSTART:20200101T000000
END:STANDARD
END:VTIMEZONE
BEGIN:VEVENT
DTSTART;TZID=America/Sao_Paulo:20200426T190000
DTEND;TZID=America/Sao_Paulo:20200426T210000
DTSTAMP:20260425T075733
CREATED:20200210T032319Z
LAST-MODIFIED:20200210T032319Z
UID:3563-1587927600-1587934800@comunidadecristadelondrina.org
SUMMARY:Lanche em Comunidade
DESCRIPTION:
URL:https://comunidadecristadelondrina.org/evento/lanche-em-comunidade-4/
CATEGORIES:Encontros
ATTACH;FMTTYPE=image/jpeg:https://comunidadecristadelondrina.org/wp-content/uploads/2020/02/marco_lanche.jpeg
END:VEVENT
END:VCALENDAR