﻿BEGIN:VCALENDAR
VERSION:2.0
PRODID:-//Comunidade Cristã de Londrina - ECPv5.2.1//NONSGML v1.0//EN
CALSCALE:GREGORIAN
METHOD:PUBLISH
X-WR-CALNAME:Comunidade Cristã de Londrina
X-ORIGINAL-URL:https://comunidadecristadelondrina.org
X-WR-CALDESC:Events for Comunidade Cristã de Londrina
BEGIN:VTIMEZONE
TZID:America/Sao_Paulo
BEGIN:STANDARD
TZOFFSETFROM:-0300
TZOFFSETTO:-0300
TZNAME:-03
DTSTART:20200101T000000
END:STANDARD
END:VTIMEZONE
BEGIN:VEVENT
DTSTART;TZID=America/Sao_Paulo:20200320T180000
DTEND;TZID=America/Sao_Paulo:20200320T220000
DTSTAMP:20260425T093814
CREATED:20200210T034125Z
LAST-MODIFIED:20200210T034451Z
UID:3584-1584727200-1584741600@comunidadecristadelondrina.org
SUMMARY:Jantar em Comunidade
DESCRIPTION:
URL:https://comunidadecristadelondrina.org/evento/jantar-em-comunidade/
CATEGORIES:Encontros
ATTACH;FMTTYPE=image/jpeg:https://comunidadecristadelondrina.org/wp-content/uploads/2018/02/jantar_em_comunidade_site.jpg
END:VEVENT
END:VCALENDAR